BEGIN:VCALENDAR
VERSION:2.0
PRODID:-//Lake Country Classical Academy - ECPv6.15.20//NONSGML v1.0//EN
CALSCALE:GREGORIAN
METHOD:PUBLISH
X-ORIGINAL-URL:https://www.lakecountryclassical.org
X-WR-CALDESC:Events for Lake Country Classical Academy
REFRESH-INTERVAL;VALUE=DURATION:PT1H
X-Robots-Tag:noindex
X-PUBLISHED-TTL:PT1H
BEGIN:VTIMEZONE
TZID:America/Chicago
BEGIN:DAYLIGHT
TZOFFSETFROM:-0600
TZOFFSETTO:-0500
TZNAME:CDT
DTSTART:20240310T080000
END:DAYLIGHT
BEGIN:STANDARD
TZOFFSETFROM:-0500
TZOFFSETTO:-0600
TZNAME:CST
DTSTART:20241103T070000
END:STANDARD
BEGIN:DAYLIGHT
TZOFFSETFROM:-0600
TZOFFSETTO:-0500
TZNAME:CDT
DTSTART:20250309T080000
END:DAYLIGHT
BEGIN:STANDARD
TZOFFSETFROM:-0500
TZOFFSETTO:-0600
TZNAME:CST
DTSTART:20251102T070000
END:STANDARD
BEGIN:DAYLIGHT
TZOFFSETFROM:-0600
TZOFFSETTO:-0500
TZNAME:CDT
DTSTART:20260308T080000
END:DAYLIGHT
BEGIN:STANDARD
TZOFFSETFROM:-0500
TZOFFSETTO:-0600
TZNAME:CST
DTSTART:20261101T070000
END:STANDARD
END:VTIMEZONE
BEGIN:VEVENT
DTSTART;VALUE=DATE:20251204
DTEND;VALUE=DATE:20251205
DTSTAMP:20260424T055152
CREATED:20250731T205238Z
LAST-MODIFIED:20250731T205238Z
UID:1176-1764806400-1764892799@www.lakecountryclassical.org
SUMMARY:CASUAL WEAR DOLLAR DAY (Jr. Class Fundraiser)
DESCRIPTION:
URL:https://www.lakecountryclassical.org/family-calendar/casual-wear-dollar-day-jr-class-fundraiser/
LOCATION:EAST & WEST CAMPUSES
CATEGORIES:LCCA Activities & Events
ATTACH;FMTTYPE=image/png:https://www.lakecountryclassical.org/wp-content/uploads/2025/07/Dollar-Days.png
END:VEVENT
BEGIN:VEVENT
DTSTART;VALUE=DATE:20251205
DTEND;VALUE=DATE:20251206
DTSTAMP:20260424T055152
CREATED:20250731T205327Z
LAST-MODIFIED:20250731T205327Z
UID:1177-1764892800-1764979199@www.lakecountryclassical.org
SUMMARY:SEMESTER 1 ENRICHMENT CLASSES END
DESCRIPTION:
URL:https://www.lakecountryclassical.org/family-calendar/semester-1-enrichment-classes-end/
LOCATION:EAST & WEST CAMPUSES
CATEGORIES:LCCA Activities & Events,School Year Calendar
ATTACH;FMTTYPE=image/png:https://www.lakecountryclassical.org/wp-content/uploads/2025/07/ENRICHMENT.png
END:VEVENT
BEGIN:VEVENT
DTSTART;VALUE=DATE:20251212
DTEND;VALUE=DATE:20251215
DTSTAMP:20260424T055152
CREATED:20250731T205617Z
LAST-MODIFIED:20250731T205617Z
UID:1180-1765497600-1765756799@www.lakecountryclassical.org
SUMMARY:THEATER PRODUCTION WEEKEND
DESCRIPTION:CHECK BACK FOR MORE INFORMATION
URL:https://www.lakecountryclassical.org/family-calendar/theater-production-weekend/
LOCATION:WI
CATEGORIES:LCCA Activities & Events
ATTACH;FMTTYPE=image/png:https://www.lakecountryclassical.org/wp-content/uploads/2025/07/THEATER-PRODUCTION.png
END:VEVENT
BEGIN:VEVENT
DTSTART;TZID=America/Chicago:20251216T183000
DTEND;TZID=America/Chicago:20251216T200000
DTSTAMP:20260424T055152
CREATED:20250731T205722Z
LAST-MODIFIED:20250731T205722Z
UID:1182-1765909800-1765915200@www.lakecountryclassical.org
SUMMARY:US FINE ARTS CONCERT
DESCRIPTION:
URL:https://www.lakecountryclassical.org/family-calendar/us-fine-arts-concert/
LOCATION:WI
CATEGORIES:LCCA Activities & Events
ATTACH;FMTTYPE=image/png:https://www.lakecountryclassical.org/wp-content/uploads/2025/07/FINE-ARTS.png
END:VEVENT
BEGIN:VEVENT
DTSTART;VALUE=DATE:20251217
DTEND;VALUE=DATE:20251218
DTSTAMP:20260424T055152
CREATED:20250731T205815Z
LAST-MODIFIED:20250731T205815Z
UID:1184-1765929600-1766015999@www.lakecountryclassical.org
SUMMARY:ALL SCHOOL THEMED DRESS DAY | Red & Green Festive Fun!
DESCRIPTION:
URL:https://www.lakecountryclassical.org/family-calendar/all-school-themed-dress-day-red-green-festive-fun/
LOCATION:EAST & WEST CAMPUSES
CATEGORIES:LCCA Activities & Events
ATTACH;FMTTYPE=image/png:https://www.lakecountryclassical.org/wp-content/uploads/2025/07/THEMED-FESTIVE-DAY.png
END:VEVENT
BEGIN:VEVENT
DTSTART;TZID=America/Chicago:20251218T183000
DTEND;TZID=America/Chicago:20251218T193000
DTSTAMP:20260424T055152
CREATED:20250731T205929Z
LAST-MODIFIED:20250731T205929Z
UID:1186-1766082600-1766086200@www.lakecountryclassical.org
SUMMARY:3RD - 5TH CHORAL CONCERT
DESCRIPTION:
URL:https://www.lakecountryclassical.org/family-calendar/3rd-5th-choral-concert/
LOCATION:Oakwood Church\, 3041 Oakwood Rd.\, Heartland\, WI\, 53029
CATEGORIES:LCCA Activities & Events
ATTACH;FMTTYPE=image/png:https://www.lakecountryclassical.org/wp-content/uploads/2025/07/CHORAL-CONCERT.png
END:VEVENT
BEGIN:VEVENT
DTSTART;VALUE=DATE:20251219
DTEND;VALUE=DATE:20251220
DTSTAMP:20260424T055152
CREATED:20250731T210107Z
LAST-MODIFIED:20250731T210107Z
UID:1189-1766102400-1766188799@www.lakecountryclassical.org
SUMMARY:US FUN FOOD FRIDAY
DESCRIPTION:
URL:https://www.lakecountryclassical.org/family-calendar/us-fun-food-friday-4/
LOCATION:LCCA – West Campus\, 818 W Wisconsin Ave\, Oconomowoc\, 53066\, United States
CATEGORIES:LCCA Activities & Events
ATTACH;FMTTYPE=image/png:https://www.lakecountryclassical.org/wp-content/uploads/2025/07/FUN-FOOD-FRIDAY.png
END:VEVENT
BEGIN:VEVENT
DTSTART;TZID=America/Chicago:20251219T083000
DTEND;TZID=America/Chicago:20251219T093000
DTSTAMP:20260424T055152
CREATED:20250731T210022Z
LAST-MODIFIED:20250731T210022Z
UID:1188-1766133000-1766136600@www.lakecountryclassical.org
SUMMARY:K-2ND CHORAL CONCERT
DESCRIPTION:
URL:https://www.lakecountryclassical.org/family-calendar/k-2nd-choral-concert/
LOCATION:Oakwood Church\, 3041 Oakwood Rd.\, Heartland\, WI\, 53029
CATEGORIES:LCCA Activities & Events
ATTACH;FMTTYPE=image/png:https://www.lakecountryclassical.org/wp-content/uploads/2025/07/CHORAL-CONCERT.png
END:VEVENT
END:VCALENDAR